BEGIN:VCALENDAR
VERSION:2.0
PRODID:-//Inland Brewers Unite Homebrew Club - ECPv6.15.20//NONSGML v1.0//EN
CALSCALE:GREGORIAN
METHOD:PUBLISH
X-WR-CALNAME:Inland Brewers Unite Homebrew Club
X-ORIGINAL-URL:https://inlandbrewersunite.com
X-WR-CALDESC:Events for Inland Brewers Unite Homebrew Club
REFRESH-INTERVAL;VALUE=DURATION:PT1H
X-Robots-Tag:noindex
X-PUBLISHED-TTL:PT1H
BEGIN:VTIMEZONE
TZID:America/Los_Angeles
BEGIN:DAYLIGHT
TZOFFSETFROM:-0800
TZOFFSETTO:-0700
TZNAME:PDT
DTSTART:20250309T100000
END:DAYLIGHT
BEGIN:STANDARD
TZOFFSETFROM:-0700
TZOFFSETTO:-0800
TZNAME:PST
DTSTART:20251102T090000
END:STANDARD
BEGIN:DAYLIGHT
TZOFFSETFROM:-0800
TZOFFSETTO:-0700
TZNAME:PDT
DTSTART:20260308T100000
END:DAYLIGHT
BEGIN:STANDARD
TZOFFSETFROM:-0700
TZOFFSETTO:-0800
TZNAME:PST
DTSTART:20261101T090000
END:STANDARD
BEGIN:DAYLIGHT
TZOFFSETFROM:-0800
TZOFFSETTO:-0700
TZNAME:PDT
DTSTART:20270314T100000
END:DAYLIGHT
BEGIN:STANDARD
TZOFFSETFROM:-0700
TZOFFSETTO:-0800
TZNAME:PST
DTSTART:20271107T090000
END:STANDARD
END:VTIMEZONE
BEGIN:VEVENT
DTSTART;TZID=America/Los_Angeles:20260502T100000
DTEND;TZID=America/Los_Angeles:20260502T160000
DTSTAMP:20260422T234551
CREATED:20260109T214933Z
LAST-MODIFIED:20260423T023914Z
UID:3555-1777716000-1777737600@inlandbrewersunite.com
SUMMARY:Big Brew Day 2026 - Club Brew
DESCRIPTION:Raise your kettle and your glass—Big Brew for National Homebrew Day returns on May 2\, 2026!\nJoin homebrewers around the world on Saturday\, May 2\, 2026 to celebrate the joy of brewing at home. Whether you’re a seasoned pro or just getting started\, this is your chance to brew together\, share tips\, and toast the homebrewing hobby we all love.\nJoin IBU to brew 1bbl of of Belgian Single wort.Take home 5 gallons! Current IBU dues members will have priority allotment.\nSign up sheet here: https://www.signupgenius.com/…/10C044BAEAD28A6FFC61…\nChoose a different yeast and maybe dry hop or try spices…\nBYOB and snacks to share. IBU will be grilling up some dogs to share.Non members are asked to donate\nJoin IBU !https://inlandbrewersunite.com/annual-membership/\n(Originally planned for Saturday\, May 2nd. Temporarily moved to Sunday\, May 3rd\, but that conflicts with Bloomsday. So\, moved back to Saturday\, May 2nd.)
URL:https://inlandbrewersunite.com/event/big-brew-day-2026-club-brew/
LOCATION:Salt King Brewing / Spokane Brewing Supply\, 1422 W 3rd Ave\, Spokane\, WA\, 99201\, United States
CATEGORIES:Club Brew,Club Meeting,Member Share
ATTACH;FMTTYPE=image/jpeg:https://inlandbrewersunite.com/wp-content/uploads/2026/01/bbd2026pic-e1776911904820.jpg
END:VEVENT
BEGIN:VEVENT
DTSTART;TZID=America/Los_Angeles:20260524T160000
DTEND;TZID=America/Los_Angeles:20260524T183000
DTSTAMP:20260422T234551
CREATED:20260407T022930Z
LAST-MODIFIED:20260407T022930Z
UID:3608-1779638400-1779647400@inlandbrewersunite.com
SUMMARY:Club Meeting @ Genus Brewing and Supply
DESCRIPTION:IBU Members are invited to a club social and member share @ Genus Brewing & Supply to coincide with the announcement of the winner of the Pro-Am contest!\n\nThis is a perfect opportunity\, if you didn’t get a chance before Sunday\, to vote in the contest right before the voting ends at 5 PM.\n\nThis will be a member share too\, so bring any recent fermentation creations you want to share.\n  \nRenew your IBU Membership here: https://inlandbrewersunite.com/annual-membership/ \nRSVP on Facebook (when it’s created)\, if possible.
URL:https://inlandbrewersunite.com/event/club-meeting-genus-brewing-and-supply-2/
LOCATION:Genus Brewing\, 17018 E Sprague Ave\, Spokane Valley\, Washington\, 99037
CATEGORIES:Club Meeting,Member Share
ATTACH;FMTTYPE=image/jpeg:https://inlandbrewersunite.com/wp-content/uploads/2025/04/ibu_genus_logo-e1745284182330.jpg
END:VEVENT
BEGIN:VEVENT
DTSTART;TZID=America/Los_Angeles:20261107T110000
DTEND;TZID=America/Los_Angeles:20261107T170000
DTSTAMP:20260422T234551
CREATED:20260109T215421Z
LAST-MODIFIED:20260109T215421Z
UID:3557-1794049200-1794070800@inlandbrewersunite.com
SUMMARY:Learn to Homebrew Day 2025 - Club Brew
DESCRIPTION:Save the date. Event details to be announced.
URL:https://inlandbrewersunite.com/event/learn-to-homebrew-day-2025-club-brew/
LOCATION:Spokane Brewing Supply\, 1422 W 3rd Ave\, Spokane\, WA\, 99201\, United States
CATEGORIES:Club Brew,Club Meeting,Member Share
ATTACH;FMTTYPE=image/jpeg:https://inlandbrewersunite.com/wp-content/uploads/2025/02/lthbd_2025_generic_logo-e1739467047679.jpg
END:VEVENT
END:VCALENDAR