BEGIN:VCALENDAR
VERSION:2.0
PRODID:-//Inland Brewers Unite Homebrew Club - ECPv6.15.20//NONSGML v1.0//EN
CALSCALE:GREGORIAN
METHOD:PUBLISH
X-WR-CALNAME:Inland Brewers Unite Homebrew Club
X-ORIGINAL-URL:https://inlandbrewersunite.com
X-WR-CALDESC:Events for Inland Brewers Unite Homebrew Club
REFRESH-INTERVAL;VALUE=DURATION:PT1H
X-Robots-Tag:noindex
X-PUBLISHED-TTL:PT1H
BEGIN:VTIMEZONE
TZID:America/Los_Angeles
BEGIN:DAYLIGHT
TZOFFSETFROM:-0800
TZOFFSETTO:-0700
TZNAME:PDT
DTSTART:20230312T100000
END:DAYLIGHT
BEGIN:STANDARD
TZOFFSETFROM:-0700
TZOFFSETTO:-0800
TZNAME:PST
DTSTART:20231105T090000
END:STANDARD
BEGIN:DAYLIGHT
TZOFFSETFROM:-0800
TZOFFSETTO:-0700
TZNAME:PDT
DTSTART:20240310T100000
END:DAYLIGHT
BEGIN:STANDARD
TZOFFSETFROM:-0700
TZOFFSETTO:-0800
TZNAME:PST
DTSTART:20241103T090000
END:STANDARD
BEGIN:DAYLIGHT
TZOFFSETFROM:-0800
TZOFFSETTO:-0700
TZNAME:PDT
DTSTART:20250309T100000
END:DAYLIGHT
BEGIN:STANDARD
TZOFFSETFROM:-0700
TZOFFSETTO:-0800
TZNAME:PST
DTSTART:20251102T090000
END:STANDARD
END:VTIMEZONE
BEGIN:VEVENT
DTSTART;TZID=America/Los_Angeles:20240914T170000
DTEND;TZID=America/Los_Angeles:20240914T200000
DTSTAMP:20260420T024609
CREATED:20241008T162306Z
LAST-MODIFIED:20241008T171429Z
UID:3099-1726333200-1726344000@inlandbrewersunite.com
SUMMARY:Oktoberfest Member Share
DESCRIPTION:Time to dust off your lederhosen and dirndl’s! Jake Campeau is hosting our Oktoberfest themed September’s Member Share at his illustrious family friendly south hill estate.   \nBring your latest and greatest fermentation and a dish to share for this pot luck style event. Commercial beer\, wine or mead is also acceptable \nAlso for those that brewed at Cascadia Malts earlier in August please bring those so we can compare!\nExact address for event will be added soonPlease consider renewing membership or becoming a new member!\nhttps://inlandbrewersunite.com/annual-membership/\nCurrent Member Statushttps://inlandbrewersunite.com/members/\nRSVP on Facebook here\, if possible.
URL:https://inlandbrewersunite.com/event/oktoberfest-member-share/
LOCATION:Club Member’s House\, TBA
CATEGORIES:Club Meeting,Member Share
ATTACH;FMTTYPE=image/png:https://inlandbrewersunite.com/wp-content/uploads/2024/09/ibu_logo_oktoberfestr-e1725573989882.png
END:VEVENT
END:VCALENDAR