BEGIN:VCALENDAR
VERSION:2.0
PRODID:-//Inland Brewers Unite Homebrew Club - ECPv6.15.20//NONSGML v1.0//EN
CALSCALE:GREGORIAN
METHOD:PUBLISH
X-WR-CALNAME:Inland Brewers Unite Homebrew Club
X-ORIGINAL-URL:https://inlandbrewersunite.com
X-WR-CALDESC:Events for Inland Brewers Unite Homebrew Club
REFRESH-INTERVAL;VALUE=DURATION:PT1H
X-Robots-Tag:noindex
X-PUBLISHED-TTL:PT1H
BEGIN:VTIMEZONE
TZID:America/Los_Angeles
BEGIN:DAYLIGHT
TZOFFSETFROM:-0800
TZOFFSETTO:-0700
TZNAME:PDT
DTSTART:20230312T100000
END:DAYLIGHT
BEGIN:STANDARD
TZOFFSETFROM:-0700
TZOFFSETTO:-0800
TZNAME:PST
DTSTART:20231105T090000
END:STANDARD
BEGIN:DAYLIGHT
TZOFFSETFROM:-0800
TZOFFSETTO:-0700
TZNAME:PDT
DTSTART:20240310T100000
END:DAYLIGHT
BEGIN:STANDARD
TZOFFSETFROM:-0700
TZOFFSETTO:-0800
TZNAME:PST
DTSTART:20241103T090000
END:STANDARD
BEGIN:DAYLIGHT
TZOFFSETFROM:-0800
TZOFFSETTO:-0700
TZNAME:PDT
DTSTART:20250309T100000
END:DAYLIGHT
BEGIN:STANDARD
TZOFFSETFROM:-0700
TZOFFSETTO:-0800
TZNAME:PST
DTSTART:20251102T090000
END:STANDARD
END:VTIMEZONE
BEGIN:VEVENT
DTSTART;TZID=America/Los_Angeles:20241102T110000
DTEND;TZID=America/Los_Angeles:20241102T170000
DTSTAMP:20260419T235643
CREATED:20250213T171447Z
LAST-MODIFIED:20250213T171447Z
UID:3333-1730545200-1730566800@inlandbrewersunite.com
SUMMARY:Learn to Homebrew Day - Club Brew
DESCRIPTION:Join in on some brewing action Saturday November 2nd 11am.\nSee Extract and All Grain brewing methods in action.\nYou may also bring your own equipment to brew on site. (DM for a Spot\, Space is limited)\nAll Malts By the Pound or Ounce\, Hops and Beer Yeast will be 20% Off at Spokane Brewing Supply Nov 1-2nd\nThis will primarily be an outdoor event please dress appropriately. There will covered space and a fire pit to keep warm.\nPlease bring any beverage you wish to share with the group.Aaron plans to smoke some meats. Snacks and Side Dishes welcome.\n\nMore Information from the American Homebrewers Association:\n“Learn to Homebrew Day is November 2\, 2024In 1999\, Learn to Homebrew Day was established as the first Saturday in November by the American Homebrewers Association to promote the most rewarding and delicious activity of all time—homebrewing. Beer lovers worldwide are invited to brew\, share their knowledge\, and celebrate the hobby of homebrewing annually.”\nhttps://www.homebrewersassociation.org/…/learn-to…/\nOfficial Recipehttps://www.homebrewersassociation.org/…/maltose…/\n\n\nFacebook Event Here
URL:https://inlandbrewersunite.com/event/learn-to-homebrew-day-club-brew/
LOCATION:Spokane Brewing Supply – Old Location\, 2105 W Mansfield Ct\, Spokane\, WA\, 99205\, United States
CATEGORIES:Club Brew,Club Meeting,Member Share
ATTACH;FMTTYPE=image/jpeg:https://inlandbrewersunite.com/wp-content/uploads/2025/02/lthbd_2024_logo-e1739466832531.jpg
END:VEVENT
END:VCALENDAR