BEGIN:VCALENDAR
VERSION:2.0
PRODID:-//Inland Brewers Unite Homebrew Club - ECPv6.15.20//NONSGML v1.0//EN
CALSCALE:GREGORIAN
METHOD:PUBLISH
X-WR-CALNAME:Inland Brewers Unite Homebrew Club
X-ORIGINAL-URL:https://inlandbrewersunite.com
X-WR-CALDESC:Events for Inland Brewers Unite Homebrew Club
REFRESH-INTERVAL;VALUE=DURATION:PT1H
X-Robots-Tag:noindex
X-PUBLISHED-TTL:PT1H
BEGIN:VTIMEZONE
TZID:America/Los_Angeles
BEGIN:DAYLIGHT
TZOFFSETFROM:-0800
TZOFFSETTO:-0700
TZNAME:PDT
DTSTART:20230312T100000
END:DAYLIGHT
BEGIN:STANDARD
TZOFFSETFROM:-0700
TZOFFSETTO:-0800
TZNAME:PST
DTSTART:20231105T090000
END:STANDARD
BEGIN:DAYLIGHT
TZOFFSETFROM:-0800
TZOFFSETTO:-0700
TZNAME:PDT
DTSTART:20240310T100000
END:DAYLIGHT
BEGIN:STANDARD
TZOFFSETFROM:-0700
TZOFFSETTO:-0800
TZNAME:PST
DTSTART:20241103T090000
END:STANDARD
BEGIN:DAYLIGHT
TZOFFSETFROM:-0800
TZOFFSETTO:-0700
TZNAME:PDT
DTSTART:20250309T100000
END:DAYLIGHT
BEGIN:STANDARD
TZOFFSETFROM:-0700
TZOFFSETTO:-0800
TZNAME:PST
DTSTART:20251102T090000
END:STANDARD
END:VTIMEZONE
BEGIN:VEVENT
DTSTART;TZID=America/Los_Angeles:20240727T170000
DTEND;TZID=America/Los_Angeles:20240727T190000
DTSTAMP:20260420T071535
CREATED:20241008T172027Z
LAST-MODIFIED:20250612T222317Z
UID:3125-1722099600-1722106800@inlandbrewersunite.com
SUMMARY:Member Share & Brewery Tour @ Inland Ale Works
DESCRIPTION:Hey\, IBU members! July’s social and monthly membership meeting will be at Inland Ale Works in Cheney\, WA. \nSaturday\, July 27th @ 5 PM \n*** Special Saturday meeting day/time for all you members who can’t usually get out on workday evenings! *** \nMeet and greet other fellow Homebrewers along with the owner/brewer\, Nick Johnson\, and get a private tour of the brewery. \nThis is an experience you won’t want to miss! \nNick started as a homebrewer\, and his brewery uses—among other vessels—some repurposed diary equipment. \nThe brewery has tons of Bohemian Brewery artifacts—Bohemian was the last brewery operating in Spokane when it shut down in 1962\, as national brands began to dominate the market. (Short Spokesman-Review article here.) \nInland Ale Works has been known to recreate historical beer recipes. \nThis is a member share\, so bring out your latest and greatest creations to share! If you can bring your own tasting glass\, that would be awesome. \nEnjoy a pint from Inland Ale Works before or after the main share! The brewery DOES have food options\, including artisan pizzas\, pretzel appetizers\, and paninis!! \nRenew your IBU Membership here: https://inlandbrewersunite.com/annual-membership/ \nRSVP on Facebook here\, if possible. \nP.S. The Pinter! that was gifted to the club should be at this meeting and ready to dispense!!!
URL:https://inlandbrewersunite.com/event/brewery-tour-and-member-share-inland-ale-works/
LOCATION:Inland Ale Works\, 505 1st St\, Cheney\, WA\, 99004\, United States
CATEGORIES:Club Meeting,Member Share,Tour
ATTACH;FMTTYPE=image/jpeg:https://inlandbrewersunite.com/wp-content/uploads/2024/05/inlandaleworksflight-e1720910064505.jpg
END:VEVENT
END:VCALENDAR