BEGIN:VCALENDAR
VERSION:2.0
PRODID:-//Inland Brewers Unite Homebrew Club - ECPv6.15.20//NONSGML v1.0//EN
CALSCALE:GREGORIAN
METHOD:PUBLISH
X-ORIGINAL-URL:https://inlandbrewersunite.com
X-WR-CALDESC:Events for Inland Brewers Unite Homebrew Club
REFRESH-INTERVAL;VALUE=DURATION:PT1H
X-Robots-Tag:noindex
X-PUBLISHED-TTL:PT1H
BEGIN:VTIMEZONE
TZID:America/Los_Angeles
BEGIN:DAYLIGHT
TZOFFSETFROM:-0800
TZOFFSETTO:-0700
TZNAME:PDT
DTSTART:20240310T100000
END:DAYLIGHT
BEGIN:STANDARD
TZOFFSETFROM:-0700
TZOFFSETTO:-0800
TZNAME:PST
DTSTART:20241103T090000
END:STANDARD
BEGIN:DAYLIGHT
TZOFFSETFROM:-0800
TZOFFSETTO:-0700
TZNAME:PDT
DTSTART:20250309T100000
END:DAYLIGHT
BEGIN:STANDARD
TZOFFSETFROM:-0700
TZOFFSETTO:-0800
TZNAME:PST
DTSTART:20251102T090000
END:STANDARD
BEGIN:DAYLIGHT
TZOFFSETFROM:-0800
TZOFFSETTO:-0700
TZNAME:PDT
DTSTART:20260308T100000
END:DAYLIGHT
BEGIN:STANDARD
TZOFFSETFROM:-0700
TZOFFSETTO:-0800
TZNAME:PST
DTSTART:20261101T090000
END:STANDARD
BEGIN:DAYLIGHT
TZOFFSETFROM:-0800
TZOFFSETTO:-0700
TZNAME:PDT
DTSTART:20270314T100000
END:DAYLIGHT
BEGIN:STANDARD
TZOFFSETFROM:-0700
TZOFFSETTO:-0800
TZNAME:PST
DTSTART:20271107T090000
END:STANDARD
END:VTIMEZONE
BEGIN:VEVENT
DTSTART;TZID=America/Los_Angeles:20250610T180000
DTEND;TZID=America/Los_Angeles:20250610T200000
DTSTAMP:20260420T160955
CREATED:20250527T175907Z
LAST-MODIFIED:20250612T222043Z
UID:3408-1749578400-1749585600@inlandbrewersunite.com
SUMMARY:Member Share & Brewery Tour @ West Plains Brewing
DESCRIPTION:The club’s June meeting will be at West Plains Brewing in Airway Heights with owner/brewer and IBU Member Matt Swanson! \nThis meeting will feature the club brew we brewed on Big Brew Day (BBD) in early May (which I am calling The Pool’s Never Open because\, as it seems\, BBD is too early in May for Donde to have his pool open). The 25 gal batch was split among participants and fermented with different yeasts. This will be a great sensory experience for members to judge the isolated effect of different yeasts on the same wort. \nBring any other fermentation creations you’ve got ready as well! \nMatt is a great host and club supporter. I’m sure we’ll get a tour of the brewery. \n=======================\nThis meeting will also feature a club meeting raffle of items donated by club members for that meeting. How it works: Attendees bring to the meeting items they want to donate to the club to raffle off for that meeting. Tickets are $1 each. Club draws winning tickets in turn\, and winners\, in turn\, pick their winning item from the field of items remaining. All funds go to the club. Consider donating items that would interest fellow club members\, especially: brewing equipment/books/ingredients\, craft beers\, or beer culture items.\n======================= \nRenew your IBU Membership here: https://inlandbrewersunite.com/annual-membership/ \nRSVP via email or on the Facebook event.
URL:https://inlandbrewersunite.com/event/brewery-tour-and-member-share-west-plains-brewing-2/
LOCATION:West Plains Brewing\, 12622 W Sunset Hwy Suite D\, Airway Heights\, WA\, 99001\, United States
CATEGORIES:Club Meeting,Member Share,Tour
ATTACH;FMTTYPE=image/jpeg:https://inlandbrewersunite.com/wp-content/uploads/2024/09/west_plains_brewing_logo-e1727636223189.jpg
END:VEVENT
BEGIN:VEVENT
DTSTART;TZID=America/Los_Angeles:20250715T180000
DTEND;TZID=America/Los_Angeles:20250715T200000
DTSTAMP:20260420T160955
CREATED:20250613T185237Z
LAST-MODIFIED:20250613T185237Z
UID:3430-1752602400-1752609600@inlandbrewersunite.com
SUMMARY:Member Share & Brewery Tour & Q2 Comp Results @ YaYa Brewing
DESCRIPTION:The club’s July meeting\, member share\, and brewery tour will be at YaYa Brewing in Spokane Valley! \nThis meeting will feature the results from the Q2 Intra-Club Competition: Double IPA (22A). We will have as many of the entries on hand for members to judge for themselves. We also typically have the recipe sheets and the feedback from the BJCP judges for the beers! \nBring any other fermentation creations you’ve got ready as well! \nShow up a few minutes early to grab a pint of one of YaYa’s great beers on tap. And if you’re hungry\, SAUCED! is a pizza place inside YaYa’s taproom that serves delicious Detroit style pizzas\, wings\, salads\, and appetizers! \n=======================\nThis meeting will also feature a club meeting raffle of items donated by club members for that meeting. How it works: Attendees bring to the meeting items they want to donate to the club to raffle off for that meeting. Tickets are $1 each. Club draws winning tickets in turn\, and winners\, in turn\, pick their winning item from the field of items remaining. All funds go to the club. Consider donating items that would interest fellow club members\, especially: brewing equipment/books/ingredients\, craft beers\, or beer culture items.\n======================= \nThis is a members only event. Join the club or renew your IBU Membership here: https://inlandbrewersunite.com/annual-membership/ \nRSVP via email or on the Facebook event.
URL:https://inlandbrewersunite.com/event/member-share-brewery-tour-q2-comp-results-yaya-brewing/
LOCATION:YaYa Brewing\, Location 11712 East Montgomery Drive F2\, Spokane Valley\, Washington\, 99206
CATEGORIES:Club Meeting,Member Share,Tour
ATTACH;FMTTYPE=image/jpeg:https://inlandbrewersunite.com/wp-content/uploads/2025/06/yaya_pic-e1749766620157.jpg
END:VEVENT
BEGIN:VEVENT
DTSTART;TZID=America/Los_Angeles:20250812T180000
DTEND;TZID=America/Los_Angeles:20250812T200000
DTSTAMP:20260420T160955
CREATED:20250802T224531Z
LAST-MODIFIED:20250802T224531Z
UID:3467-1755021600-1755028800@inlandbrewersunite.com
SUMMARY:Member Share & Glass-o-Rama @ Spokane Brewing Supply (New Location!)
DESCRIPTION:The club’s August meeting will be at Spokane Brewing Supply’s new location! 1422 W 3rd Ave Spokane WA 99201 \nAlthough the store may not be fully set up\, we’ll be checking out the space and christening it with our first member share. Bring out your latest fermentation creations! (Also\, bring a chair if you want to sit down at all. There are no chairs or tables in the new location yet.) \nThis meeting will feature or first Glass-o-Rama! We have this year’s glassware on hand and ready to distribute to members. But also… bring any other glassware you have collecting dust in the back of your cabinets that you don’t want anymore. We’ll pool them together and members can swap in and out of the pool freely. Bring your duplicates\, those odd shapes and cool logos if you have them\, but also all those Budweiser shakers that you’re hoarding. Maybe you can pick up a shape you haven’t tried yet. (Note: Items should be in great condition\, no chips in the glass or chips or scratches in any painted logos please.) Whatever’s leftover after the swap\, we can either save for next year or we can donate them to a thrift store. Great way to make some room in your cabinets and potentially help out other club members! \n=======================\nThis meeting will also feature a club meeting raffle of items donated by club members for that meeting. How it works: Attendees bring to the meeting items they want to donate to the club to raffle off for that meeting. Tickets are $1 each. Club draws winning tickets in turn\, and winners\, in turn\, pick their winning item from the field of items remaining. All funds go to the club. Consider donating items that would interest fellow club members\, especially: brewing equipment/books/ingredients\, craft beers\, or beer culture items.\n======================= \nRenew your IBU Membership here: https://inlandbrewersunite.com/annual-membership/ \nRSVP via email or on the Facebook event.
URL:https://inlandbrewersunite.com/event/member-share-spokane-brewing-supply-new-location/
LOCATION:Spokane Brewing Supply\, 1422 W 3rd Ave\, Spokane\, WA\, 99201\, United States
CATEGORIES:Club Meeting,Member Share
ATTACH;FMTTYPE=image/jpeg:https://inlandbrewersunite.com/wp-content/uploads/2025/08/sbs_logo_black_on_white.jpg
END:VEVENT
BEGIN:VEVENT
DTSTART;VALUE=DATE:20250919
DTEND;VALUE=DATE:20250922
DTSTAMP:20260420T160955
CREATED:20250716T180533Z
LAST-MODIFIED:20250716T180533Z
UID:3455-1758240000-1758499199@inlandbrewersunite.com
SUMMARY:Inland Northwest Homebrewers Festival 2025
DESCRIPTION:Homebrewers of the Inland Northwest—mark your calendars and fire up your kettles! We’re thrilled to announce the inaugural Inland Northwest Homebrewers Festival\, a weekend celebration of community\, craft\, and creativity\, hosted by Inland Brewers Unite (IBU) at beautiful Farragut State Park in northern Idaho. \nGo to the festival website for all the details!
URL:https://inlandbrewersunite.com/event/inland-northwest-homebrewers-festival-2025/
LOCATION:Farragut State Park\, ID\, 13550 E. Hwy 54\, Athol\, Idaho\, 83801
CATEGORIES:Competition,Festival,Member Share
ATTACH;FMTTYPE=image/png:https://inlandbrewersunite.com/wp-content/uploads/2025/07/inwhf-logo1-512.png
END:VEVENT
BEGIN:VEVENT
DTSTART;TZID=America/Los_Angeles:20251018T170000
DTEND;TZID=America/Los_Angeles:20251018T200000
DTSTAMP:20260420T160955
CREATED:20250910T210018Z
LAST-MODIFIED:20250910T215344Z
UID:3493-1760806800-1760817600@inlandbrewersunite.com
SUMMARY:Oktoberfest Member Share & Q3 Results
DESCRIPTION:Time to dust off your lederhosen and Dirndl’s! Jake Campeau is once again hosting our Oktoberfest-themed October Member Share at his illustrious family friendly south hill estate.   \nBring your latest and greatest fermentation and a dish to share for this pot luck style event. Commercial beer\, wine or mead is also acceptable \n\nAnd… assuming the judging has been completed and tallied\, we will also have the now legendary paper results presentation for Q3 of the quarterly intra-club competition!\nAddress will be added as the event date approaches.\n\nPlease consider renewing membership or becoming a new member!\nhttps://inlandbrewersunite.com/annual-membership/\nCurrent Member Statushttps://inlandbrewersunite.com/members/\nRSVP on Facebook here\, if possible.
URL:https://inlandbrewersunite.com/event/oktoberfest-member-share-q3-results/
LOCATION:Club Member’s House\, TBA
CATEGORIES:Club Meeting,Competition,Member Share
ATTACH;FMTTYPE=image/png:https://inlandbrewersunite.com/wp-content/uploads/2024/09/ibu_logo_oktoberfestr-e1725573989882.png
END:VEVENT
BEGIN:VEVENT
DTSTART;TZID=America/Los_Angeles:20251101T110000
DTEND;TZID=America/Los_Angeles:20251101T170000
DTSTAMP:20260420T160955
CREATED:20250213T171829Z
LAST-MODIFIED:20250422T011303Z
UID:3336-1761994800-1762016400@inlandbrewersunite.com
SUMMARY:Learn to Homebrew Day 2025 - Club Brew
DESCRIPTION:Save the date. Event details to be announced.
URL:https://inlandbrewersunite.com/event/learn-to-homebrew-day-club-brew-2/
LOCATION:Washington
CATEGORIES:Club Brew,Club Meeting,Member Share
ATTACH;FMTTYPE=image/jpeg:https://inlandbrewersunite.com/wp-content/uploads/2025/02/lthbd_2025_generic_logo-e1739467047679.jpg
END:VEVENT
BEGIN:VEVENT
DTSTART;TZID=America/Los_Angeles:20251209T180000
DTEND;TZID=America/Los_Angeles:20251209T200000
DTSTAMP:20260420T160955
CREATED:20251125T011632Z
LAST-MODIFIED:20251126T192713Z
UID:3520-1765303200-1765310400@inlandbrewersunite.com
SUMMARY:Member Share & Brewery Tour @ Perry Street Brewing
DESCRIPTION:The club’s November December meeting will be at Perry Street Brewing! \nPerry Street has great brews and a solid food menu! Come early for some food and to grab a pint from their taps!\nFor shares\, this meeting will feature the two brews that Jake and Glenn brewed on Learn To Homebrew Day: a Vienna Lager and a DDH DIPA. Bring any other fermentation creations you’ve got ready as well!\n=======================This meeting will also feature a White Elephant-style gift exchange! Bring a WRAPPED commercial BEER/CIDER/MEAD to participate!! Limit the value of a gift to $20.=======================\nRenew your IBU Membership here: https://inlandbrewersunite.com/annual-membership/ \nRSVP via email or on the Facebook event.
URL:https://inlandbrewersunite.com/event/member-share-brewery-tour-perry-street-brewing/
LOCATION:Perry Street Brewing\, 1025 S. Perry St. Ste. B\, Spokane\, WA\, 99202\, United States
CATEGORIES:Club Meeting,Member Share,Tour
ATTACH;FMTTYPE=image/png:https://inlandbrewersunite.com/wp-content/uploads/2025/11/perry-street-brewing-e1764033300964.png
END:VEVENT
BEGIN:VEVENT
DTSTART;TZID=America/Los_Angeles:20260106T180000
DTEND;TZID=America/Los_Angeles:20260106T200000
DTSTAMP:20260420T160955
CREATED:20251204T034233Z
LAST-MODIFIED:20251204T034233Z
UID:3527-1767722400-1767729600@inlandbrewersunite.com
SUMMARY:Member Share & Q4 Comp Results & 2026 Planning @ Spokane Brewing Supply
DESCRIPTION:All are welcome to help IBU kick off the New Year at Spokane Brewing Supply!\n\nAt this meeting we will be planning the calendar for 2026\, so this is your opportunity to provide suggestions and feedback and to volunteer!\n\nWe will also be announcing the results of the 2025 Q4 Intra-Club Homebrew Competition. Five entries were sent to the Happy Holidays Homebrew Competition in St Louis\, MO for official BJCP judging!\n\nThis meeting will be a member share and social. Outside food welcome.\n\n\nRSVP on Facebook Event if possible LINK HERE
URL:https://inlandbrewersunite.com/event/member-share-q4-comp-results-2026-planning-spokane-brewing-supply/
LOCATION:Spokane Brewing Supply\, 1422 W 3rd Ave\, Spokane\, WA\, 99201\, United States
CATEGORIES:Club Meeting,Member Share
ATTACH;FMTTYPE=image/jpeg:https://inlandbrewersunite.com/wp-content/uploads/2025/08/sbs_logo_black_on_white.jpg
END:VEVENT
BEGIN:VEVENT
DTSTART;TZID=America/Los_Angeles:20260203T180000
DTEND;TZID=America/Los_Angeles:20260203T200000
DTSTAMP:20260420T160955
CREATED:20260109T212906Z
LAST-MODIFIED:20260109T212906Z
UID:3553-1770141600-1770148800@inlandbrewersunite.com
SUMMARY:Member Share @ Spokane Brewing Supply
DESCRIPTION:This meeting will be a member share and social. Outside food welcome.\n\n\nRSVP on Facebook Event if possible LINK HERE
URL:https://inlandbrewersunite.com/event/member-share-spokane-brewing-supply/
LOCATION:Spokane Brewing Supply\, 1422 W 3rd Ave\, Spokane\, WA\, 99201\, United States
CATEGORIES:Club Meeting,Member Share
ATTACH;FMTTYPE=image/jpeg:https://inlandbrewersunite.com/wp-content/uploads/2025/08/sbs_logo_black_on_white.jpg
END:VEVENT
BEGIN:VEVENT
DTSTART;TZID=America/Los_Angeles:20260314T140000
DTEND;TZID=America/Los_Angeles:20260314T180000
DTSTAMP:20260420T160955
CREATED:20260202T190139Z
LAST-MODIFIED:20260202T190139Z
UID:3569-1773496800-1773511200@inlandbrewersunite.com
SUMMARY:Shamrocks & Shenanigans Member Share
DESCRIPTION:Glenn Snow is hosting our St. Patrick’s Day-themed March Member Share at his humble family friendly north hill estate. ☘️🪉🌈\n\nBring your latest and greatest fermentation and an Irish-themed dish or dessert to share for this pot luck style event. Commercial beer\, wine or mead is also acceptable \n\n\nPlease consider renewing membership or becoming a new member!\nhttps://inlandbrewersunite.com/annual-membership/\n\nRSVP on Facebook here\, if possible.
URL:https://inlandbrewersunite.com/event/shamrocks-shenanigans-member-share/
LOCATION:Club Member’s House\, TBA
CATEGORIES:Club Meeting,Member Share
ATTACH;FMTTYPE=image/png:https://inlandbrewersunite.com/wp-content/uploads/2026/02/Shamrocks-and-Shenanigans-e1770058850221.png
END:VEVENT
BEGIN:VEVENT
DTSTART;TZID=America/Los_Angeles:20260407T180000
DTEND;TZID=America/Los_Angeles:20260407T200000
DTSTAMP:20260420T160955
CREATED:20260311T234519Z
LAST-MODIFIED:20260330T185934Z
UID:3578-1775584800-1775592000@inlandbrewersunite.com
SUMMARY:April Meeting / Member Share / Q1 Results @ Salt King Brewing / Spokane Brewing Supply
DESCRIPTION:This is April’s Club Meeting and Member Share.\n\nThis will also be the presentation of Q1 Results! If you entered in Q1 and have some of your American Stout\, bring it out for the club to taste alongside the recipes and scoresheets!\n\nDiscussion Topic: Brewing a Hazy IPA (this is Q2’s style) and mitigating oxygen exposure.\n\nProspective members and past members welcome! Outside food welcome (snacks to share encouraged)!\n\n\n\nRSVP via email or on the FB Event.
URL:https://inlandbrewersunite.com/event/member-share-spokane-brewing-supply-2/
LOCATION:Salt King Brewing / Spokane Brewing Supply\, 1422 W 3rd Ave\, Spokane\, WA\, 99201\, United States
CATEGORIES:Club Meeting,Member Share
ATTACH;FMTTYPE=image/png:https://inlandbrewersunite.com/wp-content/uploads/2026/03/IBU-Salt-King-SBS-Tri-Logo-e1773272680699.png
END:VEVENT
BEGIN:VEVENT
DTSTART;TZID=America/Los_Angeles:20260502T100000
DTEND;TZID=America/Los_Angeles:20260502T160000
DTSTAMP:20260420T160955
CREATED:20260109T214933Z
LAST-MODIFIED:20260407T150819Z
UID:3555-1777716000-1777737600@inlandbrewersunite.com
SUMMARY:Big Brew Day 2026 - Club Brew
DESCRIPTION:Save the date. Details to be determined. Likely a club brew/pot luck at Spokane Brewing Supply. \n(Originally planned for Saturday\, May 2nd. Temporarily moved to Sunday\, May 3rd\, but that conflicts with Bloomsday. So\, moved back to Saturday\, May 2nd.)
URL:https://inlandbrewersunite.com/event/big-brew-day-2026-club-brew/
LOCATION:Salt King Brewing / Spokane Brewing Supply\, 1422 W 3rd Ave\, Spokane\, WA\, 99201\, United States
CATEGORIES:Club Brew,Club Meeting,Member Share
ATTACH;FMTTYPE=image/jpeg:https://inlandbrewersunite.com/wp-content/uploads/2025/02/big_brew_generic_logo.jpg
END:VEVENT
BEGIN:VEVENT
DTSTART;TZID=America/Los_Angeles:20260524T160000
DTEND;TZID=America/Los_Angeles:20260524T183000
DTSTAMP:20260420T160955
CREATED:20260407T022930Z
LAST-MODIFIED:20260407T022930Z
UID:3608-1779638400-1779647400@inlandbrewersunite.com
SUMMARY:Club Meeting @ Genus Brewing and Supply
DESCRIPTION:IBU Members are invited to a club social and member share @ Genus Brewing & Supply to coincide with the announcement of the winner of the Pro-Am contest!\n\nThis is a perfect opportunity\, if you didn’t get a chance before Sunday\, to vote in the contest right before the voting ends at 5 PM.\n\nThis will be a member share too\, so bring any recent fermentation creations you want to share.\n  \nRenew your IBU Membership here: https://inlandbrewersunite.com/annual-membership/ \nRSVP on Facebook (when it’s created)\, if possible.
URL:https://inlandbrewersunite.com/event/club-meeting-genus-brewing-and-supply-2/
LOCATION:Genus Brewing\, 17018 E Sprague Ave\, Spokane Valley\, Washington\, 99037
CATEGORIES:Club Meeting,Member Share
ATTACH;FMTTYPE=image/jpeg:https://inlandbrewersunite.com/wp-content/uploads/2025/04/ibu_genus_logo-e1745284182330.jpg
END:VEVENT
BEGIN:VEVENT
DTSTART;VALUE=DATE:20260612
DTEND;VALUE=DATE:20260615
DTSTAMP:20260420T160955
CREATED:20260202T184752Z
LAST-MODIFIED:20260202T184752Z
UID:3567-1781222400-1781481599@inlandbrewersunite.com
SUMMARY:Inland Northwest Homebrewers Festival 2026
DESCRIPTION:Homebrewers of the Inland Northwest—mark your calendars and fire up your kettles! We’re thrilled to announce the return of the Inland Northwest Homebrewers Festival\, a weekend celebration of community\, craft\, and creativity\, hosted by Inland Brewers Unite (IBU) at beautiful Farragut State Park in northern Idaho. \nGo to the festival website for all the details!
URL:https://inlandbrewersunite.com/event/inland-northwest-homebrewers-festival-2026/
LOCATION:Farragut State Park\, ID\, 13550 E. Hwy 54\, Athol\, Idaho\, 83801
CATEGORIES:Competition,Festival,Member Share
ATTACH;FMTTYPE=image/png:https://inlandbrewersunite.com/wp-content/uploads/2025/07/inwhf-logo1-512.png
END:VEVENT
BEGIN:VEVENT
DTSTART;TZID=America/Los_Angeles:20261107T110000
DTEND;TZID=America/Los_Angeles:20261107T170000
DTSTAMP:20260420T160955
CREATED:20260109T215421Z
LAST-MODIFIED:20260109T215421Z
UID:3557-1794049200-1794070800@inlandbrewersunite.com
SUMMARY:Learn to Homebrew Day 2025 - Club Brew
DESCRIPTION:Save the date. Event details to be announced.
URL:https://inlandbrewersunite.com/event/learn-to-homebrew-day-2025-club-brew/
LOCATION:Spokane Brewing Supply\, 1422 W 3rd Ave\, Spokane\, WA\, 99201\, United States
CATEGORIES:Club Brew,Club Meeting,Member Share
ATTACH;FMTTYPE=image/jpeg:https://inlandbrewersunite.com/wp-content/uploads/2025/02/lthbd_2025_generic_logo-e1739467047679.jpg
END:VEVENT
END:VCALENDAR