BEGIN:VCALENDAR
VERSION:2.0
PRODID:-//Inland Brewers Unite Homebrew Club - ECPv6.15.20//NONSGML v1.0//EN
CALSCALE:GREGORIAN
METHOD:PUBLISH
X-WR-CALNAME:Inland Brewers Unite Homebrew Club
X-ORIGINAL-URL:https://inlandbrewersunite.com
X-WR-CALDESC:Events for Inland Brewers Unite Homebrew Club
REFRESH-INTERVAL;VALUE=DURATION:PT1H
X-Robots-Tag:noindex
X-PUBLISHED-TTL:PT1H
BEGIN:VTIMEZONE
TZID:America/Los_Angeles
BEGIN:DAYLIGHT
TZOFFSETFROM:-0800
TZOFFSETTO:-0700
TZNAME:PDT
DTSTART:20230312T100000
END:DAYLIGHT
BEGIN:STANDARD
TZOFFSETFROM:-0700
TZOFFSETTO:-0800
TZNAME:PST
DTSTART:20231105T090000
END:STANDARD
BEGIN:DAYLIGHT
TZOFFSETFROM:-0800
TZOFFSETTO:-0700
TZNAME:PDT
DTSTART:20240310T100000
END:DAYLIGHT
BEGIN:STANDARD
TZOFFSETFROM:-0700
TZOFFSETTO:-0800
TZNAME:PST
DTSTART:20241103T090000
END:STANDARD
BEGIN:DAYLIGHT
TZOFFSETFROM:-0800
TZOFFSETTO:-0700
TZNAME:PDT
DTSTART:20250309T100000
END:DAYLIGHT
BEGIN:STANDARD
TZOFFSETFROM:-0700
TZOFFSETTO:-0800
TZNAME:PST
DTSTART:20251102T090000
END:STANDARD
END:VTIMEZONE
BEGIN:VEVENT
DTSTART;TZID=America/Los_Angeles:20240817T110000
DTEND;TZID=America/Los_Angeles:20240817T150000
DTSTAMP:20260422T150055
CREATED:20241008T162912Z
LAST-MODIFIED:20241008T162912Z
UID:3101-1723892400-1723906800@inlandbrewersunite.com
SUMMARY:Baronesse Barley Harvest Day Homebrew Competition
DESCRIPTION:Joseph’s Grainary has once again invited all homebrewers to the farm for the 2024 Baronesse Barley Harvest Day Homebrew Contest! (More details on their website.)\nRegistration for homebrew contest and details:\nhttps://docs.google.com/…/1s…/edit…\nPlease read the details closely as you need to register your homebrew entry and also “purchase” tickets for the event!! Be sure to sign up as a brewer\nThere will be great prizes to win for 1st\, 2nd and 3rd places. 1st place will also get to brew their recipe at Genus Brewing!!!
URL:https://inlandbrewersunite.com/event/baronesse-barley-harvest-day-homebrew-competition/
LOCATION:Undisclosed Barley Field\, Colfax\, WA\, United States
CATEGORIES:Competition
ATTACH;FMTTYPE=image/jpeg:https://inlandbrewersunite.com/wp-content/uploads/2024/07/baronesseharvestday2024-e1721845741591.jpg
END:VEVENT
BEGIN:VEVENT
DTSTART;VALUE=DATE:20240806
DTEND;VALUE=DATE:20240807
DTSTAMP:20260422T150055
CREATED:20241008T180407Z
LAST-MODIFIED:20241008T180407Z
UID:3158-1722902400-1722988799@inlandbrewersunite.com
SUMMARY:Spokane County Interstate Fair Homebrew Registration Deadline
DESCRIPTION:
URL:https://inlandbrewersunite.com/event/spokane-county-interstate-fair-homebrew-registration-deadline/
CATEGORIES:Competition
ATTACH;FMTTYPE=image/jpeg:https://inlandbrewersunite.com/wp-content/uploads/2024/10/fair_logo-e1728410585552.jpg
END:VEVENT
BEGIN:VEVENT
DTSTART;TZID=America/Los_Angeles:20240804T093000
DTEND;TZID=America/Los_Angeles:20240804T160000
DTSTAMP:20260422T150055
CREATED:20241008T163824Z
LAST-MODIFIED:20241008T171445Z
UID:3111-1722763800-1722787200@inlandbrewersunite.com
SUMMARY:BrewBBQ with Cascadia Malts
DESCRIPTION:Join Inland Brewers Unite with Host Corey Freuen owner and a real live maltster of Cascadia Malts.\nº IBU Members and Corey will be brewing on the club 20 Gallon System with Cascadia Malts!\nº BYOEquipment to Brew On Site recommended 9:30am Arrival\, 120/220v available. Please RSVP\nº Food will be grilled around 12pm. Feel Free to bring sides\, snacks for sharing and of course your latest and greatest fermentations!\nº Malt House Tours to commence through out the day.\nCascadia Malts will also be providing BASE Malt on request for brewing on site (LTD QTY) or full sacks to go for Purchase.Additional Ingredients can be purchased at discount at SpokaneBrewingSupply.com with checkout code IBUDues10\nPlease RSVP on this Google Form for attendance preference and food optionshttps://forms.gle/TesKBzkpuKiUERf26\nHere’s a list of malts available\, to help you plan your brews: the bulk of our catalog is built around a new variety called Claymore. We offer pilsner\, pale\, UK style pale\, and light Munich. We also have 6 row Pilsner and pale\, as well as a brand new product made from a developmental breeding line of black hull-less barley. It’s a similar concept to purple Egyptian\, except it’s one of our proprietary varieties. Please feel free to reach out to Corey at Cascadia Malts for additional information\, such as spec sheets.\nkids are welcome to join. Cascadia malts is located on a private residence\, so there are 3 very friendly dogs that will be around.
URL:https://inlandbrewersunite.com/event/brewbbq-with-cascadia-malts/
LOCATION:Cascadia Malts\, 12909 N Craig Rd\, Nine Mile Falls\, WA\, 99026\, United States
CATEGORIES:Club Brew,Club Meeting,Member Share,Tour
ATTACH;FMTTYPE=image/jpeg:https://inlandbrewersunite.com/wp-content/uploads/2024/07/cascadiamaltslogo-e1721845701586.jpg
END:VEVENT
BEGIN:VEVENT
DTSTART;TZID=America/Los_Angeles:20240727T170000
DTEND;TZID=America/Los_Angeles:20240727T190000
DTSTAMP:20260422T150055
CREATED:20241008T172027Z
LAST-MODIFIED:20250612T222317Z
UID:3125-1722099600-1722106800@inlandbrewersunite.com
SUMMARY:Member Share & Brewery Tour @ Inland Ale Works
DESCRIPTION:Hey\, IBU members! July’s social and monthly membership meeting will be at Inland Ale Works in Cheney\, WA. \nSaturday\, July 27th @ 5 PM \n*** Special Saturday meeting day/time for all you members who can’t usually get out on workday evenings! *** \nMeet and greet other fellow Homebrewers along with the owner/brewer\, Nick Johnson\, and get a private tour of the brewery. \nThis is an experience you won’t want to miss! \nNick started as a homebrewer\, and his brewery uses—among other vessels—some repurposed diary equipment. \nThe brewery has tons of Bohemian Brewery artifacts—Bohemian was the last brewery operating in Spokane when it shut down in 1962\, as national brands began to dominate the market. (Short Spokesman-Review article here.) \nInland Ale Works has been known to recreate historical beer recipes. \nThis is a member share\, so bring out your latest and greatest creations to share! If you can bring your own tasting glass\, that would be awesome. \nEnjoy a pint from Inland Ale Works before or after the main share! The brewery DOES have food options\, including artisan pizzas\, pretzel appetizers\, and paninis!! \nRenew your IBU Membership here: https://inlandbrewersunite.com/annual-membership/ \nRSVP on Facebook here\, if possible. \nP.S. The Pinter! that was gifted to the club should be at this meeting and ready to dispense!!!
URL:https://inlandbrewersunite.com/event/brewery-tour-and-member-share-inland-ale-works/
LOCATION:Inland Ale Works\, 505 1st St\, Cheney\, WA\, 99004\, United States
CATEGORIES:Club Meeting,Member Share,Tour
ATTACH;FMTTYPE=image/jpeg:https://inlandbrewersunite.com/wp-content/uploads/2024/05/inlandaleworksflight-e1720910064505.jpg
END:VEVENT
BEGIN:VEVENT
DTSTART;TZID=America/Los_Angeles:20240611T180000
DTEND;TZID=America/Los_Angeles:20240611T200000
DTSTAMP:20260422T150055
CREATED:20241008T174016Z
LAST-MODIFIED:20241008T174016Z
UID:3129-1718128800-1718136000@inlandbrewersunite.com
SUMMARY:Member Share @ Hop Chaos Brewing
DESCRIPTION:It’s that time again to bring out your latest and greatest fermentations at:\nHop Chaos Brewing\, 6-8 PM\n10115 N Newport Hwy Suite A\, Spokane\, WA 99218\n\nCome early and enjoy a pint from Hop Chaos’ extensive tap list of excellent beers!\n\nPlease bring something to share and your own tasting glass\, if possible.\nThis is an IBU Member Event and current membership dues are encouraged.\nhttps://inlandbrewersunite.com/annual-membership/\nRSVP on Facebook if possible LINK HERE\n\nFood options next door at Los Habaneros
URL:https://inlandbrewersunite.com/event/member-share-hop-chaos-brewing/
LOCATION:Hop Chaos Brewing Company\, 10115 N Newport Hwy Suite A\, \, WA\, Spokane\, WA\, 99218\, United States
CATEGORIES:Club Meeting,Member Share
ATTACH;FMTTYPE=image/png:https://inlandbrewersunite.com/wp-content/uploads/2024/05/hopchaoslogo-e1715729761577.png
END:VEVENT
BEGIN:VEVENT
DTSTART;TZID=America/Los_Angeles:20240505T090000
DTEND;TZID=America/Los_Angeles:20240505T160000
DTSTAMP:20260422T150056
CREATED:20241008T172659Z
LAST-MODIFIED:20241008T172659Z
UID:3131-1714899600-1714924800@inlandbrewersunite.com
SUMMARY:Big Brew Day - Club Brew
DESCRIPTION:IBU will be hosting a Big Brew Day event for club members on Sunday\, May 5th\, 2024 from 9 AM to 4 PM. This will be a day to hang out\, talk homebrew\, brew some beer\, drink some beer\, and enjoy free food! \n\n\nThe event will take place at Matt’s (aka Donde’s) house on 5 Mile Prairie. The address will be DM’d/messaged at a later date to people who RSVP. RSVP via the Facebook event or send email RSVPs to ibufin@gmail.com. \n\n\nThe club will be providing food and have the club brew rig on site. Feel free to bring your own brew rig if you would like to brew your own. We will have space and water\, if needed. I might even be able to scare up some extra grains and hops\, if needed. \n\n\nIf you are a lapsed member or know someone who would like to join please sign up here\, and I look forward to seeing you on May 5th! \n\n\nHere’s a link to the American Homebrew Association’s info (history and recipes) on Big Brew. Feel free to reach out if you have any questions\, comments\, or concerns! \n\nFacebook Event Here
URL:https://inlandbrewersunite.com/event/big-brew-day-club-brew/
LOCATION:Club Member’s House\, TBA
CATEGORIES:Club Brew,Club Meeting,Member Share
ATTACH;FMTTYPE=image/jpeg:https://inlandbrewersunite.com/wp-content/uploads/2024/04/bigbrewday20240505-e1713474833744.jpg
END:VEVENT
BEGIN:VEVENT
DTSTART;TZID=America/Los_Angeles:20240409T180000
DTEND;TZID=America/Los_Angeles:20240409T200000
DTSTAMP:20260422T150056
CREATED:20241008T173121Z
LAST-MODIFIED:20241008T173121Z
UID:3135-1712685600-1712692800@inlandbrewersunite.com
SUMMARY:Member Share & SMaSH Winners @ Bellwether Brewing
DESCRIPTION:Meet IBU Members to share your home fermentation creations at Bellwether Brewing 6pm!\nIn this meeting we will be announcing the SMASH March Madness Spring Brew Competition\, Sharing homebrews and unboxing a Pinter brew kit!\nPlease bring your own tasting glass and also be sure to enjoy a Pint of Bellwether Brewing and food before or after the main share!\nRSVP on Facebook\nRenew your IBU Membership here!\nhttps://inlandbrewersunite.com/annual-membership/
URL:https://inlandbrewersunite.com/event/member-share-smash-winners-bellwether-brewing/
LOCATION:Bellwether Brewing – Monroe St\, 2019 N Monroe St\, Spokane\, WA\, 99205\, United States
CATEGORIES:Club Meeting,Competition,Member Share
ATTACH;FMTTYPE=image/jpeg:https://inlandbrewersunite.com/wp-content/uploads/2024/02/march-smashness.jpg
END:VEVENT
BEGIN:VEVENT
DTSTART;TZID=America/Los_Angeles:20240322T150000
DTEND;TZID=America/Los_Angeles:20240322T220000
DTSTAMP:20260422T150056
CREATED:20241008T174411Z
LAST-MODIFIED:20241008T174411Z
UID:3145-1711119600-1711144800@inlandbrewersunite.com
SUMMARY:SMaSH March Madness Competition Turn-In
DESCRIPTION:SMaSH March Madness Homebrew Contest 2024 \nWe are pleased to announce the next homebrew contest for the club will be a head-to-head SMaSH brew-off.\nThe contest rules are simple\, brew your best SMaSH recipe. It can be any style so long as it is a SMaSH. We will then have randomized brackets setup and each brew will go head-to-head until we crown a champion. \nFor those unfamiliar with the term\, SMaSH means single malt and single hop. So\, for the contest you only get 1 grain and 1 hop. But you are free to use any yeast or additional flavoring you want. If you have any doubt about an ingredient DM me for an official ruling.\nHere are the key dates: \nSign Up: 2/13 – 2/18 post a comment on this FB post to sign up or Matt Dondelinger dachande99@gmail.com\, IBU members only \nhttps://www.facebook.com/groups/inlandbrewersunite/permalink/7560796120621982/ \nTurn In: 3/18 – 3/22 turn in three 12oz bottles of your SMaSH beer\, turn in location TBA\nResults: The week of 3/25 we will have a club meeting where the results will be announced and we will sample all the entries\, location TBA\nIf you have any questions feel free to reach out Matt Dondelinger dachande99@gmail.com
URL:https://inlandbrewersunite.com/event/smash-march-madness-competition-turn-in-4/
LOCATION:Garland Brew Werks\, 603 W Garland Ave\,\, Spokane\, WA\, 99205\, United States
CATEGORIES:Competition
ATTACH;FMTTYPE=image/jpeg:https://inlandbrewersunite.com/wp-content/uploads/2024/10/bottle_turnin_pic-e1728406327416.jpg
END:VEVENT
BEGIN:VEVENT
DTSTART;TZID=America/Los_Angeles:20240321T150000
DTEND;TZID=America/Los_Angeles:20240321T210000
DTSTAMP:20260422T150056
CREATED:20241008T174347Z
LAST-MODIFIED:20241008T174347Z
UID:3143-1711033200-1711054800@inlandbrewersunite.com
SUMMARY:SMaSH March Madness Competition Turn-In
DESCRIPTION:SMaSH March Madness Homebrew Contest 2024 \nWe are pleased to announce the next homebrew contest for the club will be a head-to-head SMaSH brew-off.\nThe contest rules are simple\, brew your best SMaSH recipe. It can be any style so long as it is a SMaSH. We will then have randomized brackets setup and each brew will go head-to-head until we crown a champion. \nFor those unfamiliar with the term\, SMaSH means single malt and single hop. So\, for the contest you only get 1 grain and 1 hop. But you are free to use any yeast or additional flavoring you want. If you have any doubt about an ingredient DM me for an official ruling.\nHere are the key dates: \nSign Up: 2/13 – 2/18 post a comment on this FB post to sign up or Matt Dondelinger dachande99@gmail.com\, IBU members only \nhttps://www.facebook.com/groups/inlandbrewersunite/permalink/7560796120621982/ \nTurn In: 3/18 – 3/22 turn in three 12oz bottles of your SMaSH beer\, turn in location TBA\nResults: The week of 3/25 we will have a club meeting where the results will be announced and we will sample all the entries\, location TBA\nIf you have any questions feel free to reach out Matt Dondelinger dachande99@gmail.com
URL:https://inlandbrewersunite.com/event/smash-march-madness-competition-turn-in-3/
LOCATION:Garland Brew Werks\, 603 W Garland Ave\,\, Spokane\, WA\, 99205\, United States
CATEGORIES:Competition
ATTACH;FMTTYPE=image/jpeg:https://inlandbrewersunite.com/wp-content/uploads/2024/10/bottle_turnin_pic-e1728406327416.jpg
END:VEVENT
BEGIN:VEVENT
DTSTART;TZID=America/Los_Angeles:20240320T150000
DTEND;TZID=America/Los_Angeles:20240320T210000
DTSTAMP:20260422T150056
CREATED:20240320T160014Z
LAST-MODIFIED:20241008T174320Z
UID:3141-1710946800-1710968400@inlandbrewersunite.com
SUMMARY:SMaSH March Madness Competition Turn-In
DESCRIPTION:SMaSH March Madness Homebrew Contest 2024 \nWe are pleased to announce the next homebrew contest for the club will be a head-to-head SMaSH brew-off.\nThe contest rules are simple\, brew your best SMaSH recipe. It can be any style so long as it is a SMaSH. We will then have randomized brackets setup and each brew will go head-to-head until we crown a champion. \nFor those unfamiliar with the term\, SMaSH means single malt and single hop. So\, for the contest you only get 1 grain and 1 hop. But you are free to use any yeast or additional flavoring you want. If you have any doubt about an ingredient DM me for an official ruling.\nHere are the key dates: \nSign Up: 2/13 – 2/18 post a comment on this FB post to sign up or Matt Dondelinger dachande99@gmail.com\, IBU members only \nhttps://www.facebook.com/groups/inlandbrewersunite/permalink/7560796120621982/ \nTurn In: 3/18 – 3/22 turn in three 12oz bottles of your SMaSH beer\, turn in location TBA\nResults: The week of 3/25 we will have a club meeting where the results will be announced and we will sample all the entries\, location TBA\nIf you have any questions feel free to reach out Matt Dondelinger dachande99@gmail.com
URL:https://inlandbrewersunite.com/event/smash-march-madness-competition-turn-in-2/
LOCATION:Garland Brew Werks\, 603 W Garland Ave\,\, Spokane\, WA\, 99205\, United States
CATEGORIES:Competition
ATTACH;FMTTYPE=image/jpeg:https://inlandbrewersunite.com/wp-content/uploads/2024/10/bottle_turnin_pic-e1728406327416.jpg
END:VEVENT
BEGIN:VEVENT
DTSTART;TZID=America/Los_Angeles:20240319T150000
DTEND;TZID=America/Los_Angeles:20240319T210000
DTSTAMP:20260422T150056
CREATED:20241008T173730Z
LAST-MODIFIED:20241008T174159Z
UID:3139-1710860400-1710882000@inlandbrewersunite.com
SUMMARY:SMaSH March Madness Competition Turn-In
DESCRIPTION:SMaSH March Madness Homebrew Contest 2024 \nWe are pleased to announce the next homebrew contest for the club will be a head-to-head SMaSH brew-off.\nThe contest rules are simple\, brew your best SMaSH recipe. It can be any style so long as it is a SMaSH. We will then have randomized brackets setup and each brew will go head-to-head until we crown a champion. \nFor those unfamiliar with the term\, SMaSH means single malt and single hop. So\, for the contest you only get 1 grain and 1 hop. But you are free to use any yeast or additional flavoring you want. If you have any doubt about an ingredient DM me for an official ruling.\nHere are the key dates: \nSign Up: 2/13 – 2/18 post a comment on this FB post to sign up or Matt Dondelinger dachande99@gmail.com\, IBU members only \nhttps://www.facebook.com/groups/inlandbrewersunite/permalink/7560796120621982/ \nTurn In: 3/18 – 3/22 turn in three 12oz bottles of your SMaSH beer\, turn in location TBA\nResults: The week of 3/25 we will have a club meeting where the results will be announced and we will sample all the entries\, location TBA\nIf you have any questions feel free to reach out Matt Dondelinger dachande99@gmail.com
URL:https://inlandbrewersunite.com/event/smash-march-madness-competition-turn-in/
LOCATION:Garland Brew Werks\, 603 W Garland Ave\,\, Spokane\, WA\, 99205\, United States
CATEGORIES:Competition
ATTACH;FMTTYPE=image/jpeg:https://inlandbrewersunite.com/wp-content/uploads/2024/10/bottle_turnin_pic-e1728406327416.jpg
END:VEVENT
BEGIN:VEVENT
DTSTART;TZID=America/Los_Angeles:20240208T180000
DTEND;TZID=America/Los_Angeles:20240208T200000
DTSTAMP:20260422T150056
CREATED:20241008T174635Z
LAST-MODIFIED:20241008T174635Z
UID:3147-1707415200-1707422400@inlandbrewersunite.com
SUMMARY:Member Share @ Garland Brew Werks
DESCRIPTION:It’s that time again to bring out your latest and greatest fermentations at\nGarland Brew Werks 6pm\n603 W Garland Ave\, Spokane\, WA 99205\n\nMembers to meet in brewery area 6pm-8pm to share Homebrew. (Please watch for wild kitchen staff)\nAdditionally the folks at Pinter have gifted us a Pinter Kit to make a small batch that night.\nWe will also be announcing details of the Fe-Brew-ary Challenge and looking into March for the final tasting event.\nCome early and enjoy a pint and bites from Garland Brew Werks excellent beers and tasty food menu.\n\nPlease bring something to share and your own tasting glass if possible\nThis is an IBU Member Event and current membership dues are encouraged.\nhttps://inlandbrewersunite.com/annual-membership/\nRSVP on Facebook if possible.\nhttps://www.facebook.com/events/1173059120552155
URL:https://inlandbrewersunite.com/event/member-share-garland-brew-werks/
LOCATION:Garland Brew Werks\, 603 W Garland Ave\,\, Spokane\, WA\, 99205\, United States
CATEGORIES:Club Meeting,Member Share
ATTACH;FMTTYPE=image/png:https://inlandbrewersunite.com/wp-content/uploads/2024/02/398005449_644648541192908_7900935071904383705_n.png
END:VEVENT
BEGIN:VEVENT
DTSTART;TZID=America/Los_Angeles:20240110T180000
DTEND;TZID=America/Los_Angeles:20240110T200000
DTSTAMP:20260422T150056
CREATED:20241008T175034Z
LAST-MODIFIED:20241008T175034Z
UID:3151-1704909600-1704916800@inlandbrewersunite.com
SUMMARY:Club Social @ Hat Trick Brewing
DESCRIPTION:Join Inland Brewers Unite January 10th at 6:00 PM !\nWe are kicking off the year with the newly opened Hat Trick Brewing! (1917 W Maxwell Ave\, Spokane\, WA)\nHat Trick Brewing Located in Historic West Central Neighborhood features a variety of beer styles and tasty food for everyone to enjoy.\nWe will be discussing event planning and programing so now is your opportunity to take lead on an idea you’ve had brewing .\nAlso we are looking for more leadership folks to take on some housekeeping tasks over the next year.\nDues not required.\nThis is NOT a homebrew share.\nSo if you are still reading thanks again! To show our appreciation to everyone for 2023 we will be buying your first beer. If you want to give back and support the homebrewing community please considering joining!\nhttps://inlandbrewersunite.com/annual-membership/
URL:https://inlandbrewersunite.com/event/club-social-hat-trick-brewing/
LOCATION:Hat Trick Brewing\, 1913 W Maxwell Ave\,\, Spokane\, WA\, 99201\, United States
CATEGORIES:Club Meeting
ATTACH;FMTTYPE=image/jpeg:https://inlandbrewersunite.com/wp-content/uploads/2024/10/hat_trick_logo-e1728409799951.jpg
END:VEVENT
END:VCALENDAR