BEGIN:VCALENDAR
VERSION:2.0
PRODID:-//Inland Brewers Unite Homebrew Club - ECPv6.15.20//NONSGML v1.0//EN
CALSCALE:GREGORIAN
METHOD:PUBLISH
X-ORIGINAL-URL:https://inlandbrewersunite.com
X-WR-CALDESC:Events for Inland Brewers Unite Homebrew Club
REFRESH-INTERVAL;VALUE=DURATION:PT1H
X-Robots-Tag:noindex
X-PUBLISHED-TTL:PT1H
BEGIN:VTIMEZONE
TZID:America/Los_Angeles
BEGIN:DAYLIGHT
TZOFFSETFROM:-0800
TZOFFSETTO:-0700
TZNAME:PDT
DTSTART:20250309T100000
END:DAYLIGHT
BEGIN:STANDARD
TZOFFSETFROM:-0700
TZOFFSETTO:-0800
TZNAME:PST
DTSTART:20251102T090000
END:STANDARD
BEGIN:DAYLIGHT
TZOFFSETFROM:-0800
TZOFFSETTO:-0700
TZNAME:PDT
DTSTART:20260308T100000
END:DAYLIGHT
BEGIN:STANDARD
TZOFFSETFROM:-0700
TZOFFSETTO:-0800
TZNAME:PST
DTSTART:20261101T090000
END:STANDARD
BEGIN:DAYLIGHT
TZOFFSETFROM:-0800
TZOFFSETTO:-0700
TZNAME:PDT
DTSTART:20270314T100000
END:DAYLIGHT
BEGIN:STANDARD
TZOFFSETFROM:-0700
TZOFFSETTO:-0800
TZNAME:PST
DTSTART:20271107T090000
END:STANDARD
END:VTIMEZONE
BEGIN:VEVENT
DTSTART;TZID=America/Los_Angeles:20260404T100000
DTEND;TZID=America/Los_Angeles:20260404T140000
DTSTAMP:20260422T150311
CREATED:20260311T235238Z
LAST-MODIFIED:20260330T183245Z
UID:3586-1775296800-1775311200@inlandbrewersunite.com
SUMMARY:Wort & Boil @ Salt King Brewing / Spokane Brewing Supply
DESCRIPTION:Get ready for a first-of-its-kind brew day with Inland Brewers Unite! On Saturday\, April 4th\, the Spokane homebrewing community will gather for the inaugural Wort & Boil\, a collaborative brewing experience hosted at Salt King Brewing. The brewery will kick things off by producing one full barrel of fresh\, light-colored wort\, creating the perfect blank canvas for creativity. When mash-in starts at 10:00 AM\, the stage will be set for an experiment in brewing imagination. \nParticipants will split the wort into smaller portions and take it from there—boiling in their own kettles brought from home. From that shared starting point\, every brewer can head in a completely different direction. Want a crisp hoppy pale? A Belgian-inspired twist? Something darker and maltier? The base wort is just the beginning. \nEven better\, the tools for experimentation are right next door. With Spokane Brewing Supply co-located with the brewery\, hops\, yeast\, and specialty grains will be readily available and 15% OFF for the event! Brewers can grab ingredients on the spot\, mill grains\, and steep specialty malts to transform their portion of wort into something uniquely their own. It’s part group brew\, part brewing laboratory. \nParticipation will be limited\, so a signup will be required. The single barrel of wort will be divided into six splits of approximately 5.15 gallons each. Depending on interest\, brewers may have the option to claim a double split (about 10.3 gallons) if space allows. The participation fee will be $15 per split. The grist bill for this event will be: 55 lbs of 2-Row Base Malt\, 6 lbs of Munich\, and 3 lbs of Acidulated\, targeting a Pre-Boil Gravity (PBG) of 1.050 and an SRM of 4.8. \n\nSign-up HERE! \n\nThis event is open to all homebrewers. Club membership is not required (but club members may be given participation preference depending on the interest level). Whether you’re a seasoned homebrewer or just love the craft\, the IBU Wort & Boil is all about collaboration\, creativity\, and a great excuse to spend a Saturday surrounded by fellow brewing nerds. Come see how many different beers can come from the exact same wort—and help make the first Wort & Boil in Inland Brewers Unite history a day to remember! 🍻
URL:https://inlandbrewersunite.com/event/wort-boil-salt-king-brewing/
LOCATION:Salt King Brewing / Spokane Brewing Supply\, 1422 W 3rd Ave\, Spokane\, WA\, 99201\, United States
CATEGORIES:Club Brew
ATTACH;FMTTYPE=image/png:https://inlandbrewersunite.com/wp-content/uploads/2026/03/Wort-and-Boil-Image-e1773273124109.png
END:VEVENT
BEGIN:VEVENT
DTSTART;TZID=America/Los_Angeles:20260407T180000
DTEND;TZID=America/Los_Angeles:20260407T200000
DTSTAMP:20260422T150311
CREATED:20260311T234519Z
LAST-MODIFIED:20260330T185934Z
UID:3578-1775584800-1775592000@inlandbrewersunite.com
SUMMARY:April Meeting / Member Share / Q1 Results @ Salt King Brewing / Spokane Brewing Supply
DESCRIPTION:This is April’s Club Meeting and Member Share.\n\nThis will also be the presentation of Q1 Results! If you entered in Q1 and have some of your American Stout\, bring it out for the club to taste alongside the recipes and scoresheets!\n\nDiscussion Topic: Brewing a Hazy IPA (this is Q2’s style) and mitigating oxygen exposure.\n\nProspective members and past members welcome! Outside food welcome (snacks to share encouraged)!\n\n\n\nRSVP via email or on the FB Event.
URL:https://inlandbrewersunite.com/event/member-share-spokane-brewing-supply-2/
LOCATION:Salt King Brewing / Spokane Brewing Supply\, 1422 W 3rd Ave\, Spokane\, WA\, 99201\, United States
CATEGORIES:Club Meeting,Member Share
ATTACH;FMTTYPE=image/png:https://inlandbrewersunite.com/wp-content/uploads/2026/03/IBU-Salt-King-SBS-Tri-Logo-e1773272680699.png
END:VEVENT
BEGIN:VEVENT
DTSTART;TZID=America/Los_Angeles:20260502T100000
DTEND;TZID=America/Los_Angeles:20260502T160000
DTSTAMP:20260422T150311
CREATED:20260109T214933Z
LAST-MODIFIED:20260407T150819Z
UID:3555-1777716000-1777737600@inlandbrewersunite.com
SUMMARY:Big Brew Day 2026 - Club Brew
DESCRIPTION:Save the date. Details to be determined. Likely a club brew/pot luck at Spokane Brewing Supply. \n(Originally planned for Saturday\, May 2nd. Temporarily moved to Sunday\, May 3rd\, but that conflicts with Bloomsday. So\, moved back to Saturday\, May 2nd.)
URL:https://inlandbrewersunite.com/event/big-brew-day-2026-club-brew/
LOCATION:Salt King Brewing / Spokane Brewing Supply\, 1422 W 3rd Ave\, Spokane\, WA\, 99201\, United States
CATEGORIES:Club Brew,Club Meeting,Member Share
ATTACH;FMTTYPE=image/jpeg:https://inlandbrewersunite.com/wp-content/uploads/2025/02/big_brew_generic_logo.jpg
END:VEVENT
BEGIN:VEVENT
DTSTART;TZID=America/Los_Angeles:20260516T090000
DTEND;TZID=America/Los_Angeles:20260516T210000
DTSTAMP:20260422T150311
CREATED:20260312T162305Z
LAST-MODIFIED:20260312T162556Z
UID:3594-1778922000-1778965200@inlandbrewersunite.com
SUMMARY:Kaniksu Brewing NZ Pilsner Homebrew Competition Crowd Judging
DESCRIPTION:Placeholder for the crowd judging for Kaniksu Brewing’s NZ Pilsner Homebrew Competition.\n\n\n\nHere are the comp details:\nHomebrew Competition\n\n\nNew Zealand Pilsner BJCP X5\n\n\n\n\n\nThe Rules:\n\n\nBeer must fit into the BJCP style guidelines for X5 New Zealand Pilsner. One Beer entry per person can be entered as well as a copy of your recipe. Competition entry must be brewed on a home brew system\, and recipe must be repeatable on our larger system.\n\n\n\n\n\nTo Enter:\n\n\nBring 6 12-oz bottles of your beer and a copy of the recipe to Kaniksu Brewing & Supplies\, no later than Thursday\, May 14th\, 6pm. Bottles must have no identifying marks Silver caps only. If you plan to enter and don’t have silver\, I will provide you caps\, just ask.\n\n\n\n\n\nBeer will be judged Friday May 15th\, and 5 to 6 beers will move on to the final round to be voted on Saturday May16th by Kaniksu patrons for customers choice. Winner gets to brew the winning beer at Kaniksu Brewing\, as well as naming rights\, and bragging rights\, and some other pretty cool prizes. Any questions contact Kaniksu Brewing at 208-777-2739 or email at kaniksubrewing@gmail.com
URL:https://inlandbrewersunite.com/event/kaniksu-brewing-nz-pilsner-homebrew-competition-crowd-judging/
LOCATION:Kaniksu Brewing & Supplies\, 4045 W. Riverbend Ave\, Post Falls\, Idaho\, 83854
CATEGORIES:Competition
END:VEVENT
BEGIN:VEVENT
DTSTART;TZID=America/Los_Angeles:20260516T130000
DTEND;TZID=America/Los_Angeles:20260516T170000
DTSTAMP:20260422T150311
CREATED:20260407T150942Z
LAST-MODIFIED:20260407T150942Z
UID:3614-1778936400-1778950800@inlandbrewersunite.com
SUMMARY:Lilac Festival - Brewfest 2025
DESCRIPTION:IBU will have an information booth at Brewfest 2025. Stop on by!\n\n\nDetails on the event can be found here.\n\nClub Members who are interested in helping out\, message Glenn.
URL:https://inlandbrewersunite.com/event/lilac-festival-brewfest-2025/
LOCATION:WA
CATEGORIES:Festival
ATTACH;FMTTYPE=image/jpeg:https://inlandbrewersunite.com/wp-content/uploads/2025/02/brewfest2025logo-e1745283459437.jpg
END:VEVENT
BEGIN:VEVENT
DTSTART;TZID=America/Los_Angeles:20260522T160000
DTEND;TZID=America/Los_Angeles:20260524T170000
DTSTAMP:20260422T150311
CREATED:20260407T023328Z
LAST-MODIFIED:20260407T023328Z
UID:3610-1779465600-1779642000@inlandbrewersunite.com
SUMMARY:Pro-Am Brewing Contest Crowd Judging
DESCRIPTION: Pro-Am Beer Collab Throwdown! 6 Beers. 2 Clubs. One epic tasting event.\n\nHosted by Genus Brewing and Supply\n\nMay 22nd at 4PM – May 24th at 5PMWinner announced at 6PM on May 24th!\n\nWe’re bringing together 6 unique beers brewed by teams of local homebrewers and pro breweries. Each local homebrew club- SRM (Spokane’s Recirculating Mashers) and IBU (Inland Brewers Unite) has partnered with professional breweries to create something special just for this weekend-long event!\n\nIBU with:– Hat Trick– No-Li– Brick West\n\nSRM with:– Bellwether– 45 Degree Brewhouse– Genus\n\nTaste them all. Cast your vote. Celebrate the craft.\n Voting closes at 5PM on May 24th. Winner announced at 6PM!
URL:https://inlandbrewersunite.com/event/pro-am-brewing-contest-crowd-judging-2/
LOCATION:Genus Brewing\, 17018 E Sprague Ave\, Spokane Valley\, Washington\, 99037
CATEGORIES:Competition
END:VEVENT
BEGIN:VEVENT
DTSTART;TZID=America/Los_Angeles:20260524T160000
DTEND;TZID=America/Los_Angeles:20260524T183000
DTSTAMP:20260422T150311
CREATED:20260407T022930Z
LAST-MODIFIED:20260407T022930Z
UID:3608-1779638400-1779647400@inlandbrewersunite.com
SUMMARY:Club Meeting @ Genus Brewing and Supply
DESCRIPTION:IBU Members are invited to a club social and member share @ Genus Brewing & Supply to coincide with the announcement of the winner of the Pro-Am contest!\n\nThis is a perfect opportunity\, if you didn’t get a chance before Sunday\, to vote in the contest right before the voting ends at 5 PM.\n\nThis will be a member share too\, so bring any recent fermentation creations you want to share.\n  \nRenew your IBU Membership here: https://inlandbrewersunite.com/annual-membership/ \nRSVP on Facebook (when it’s created)\, if possible.
URL:https://inlandbrewersunite.com/event/club-meeting-genus-brewing-and-supply-2/
LOCATION:Genus Brewing\, 17018 E Sprague Ave\, Spokane Valley\, Washington\, 99037
CATEGORIES:Club Meeting,Member Share
ATTACH;FMTTYPE=image/jpeg:https://inlandbrewersunite.com/wp-content/uploads/2025/04/ibu_genus_logo-e1745284182330.jpg
END:VEVENT
BEGIN:VEVENT
DTSTART;VALUE=DATE:20260612
DTEND;VALUE=DATE:20260615
DTSTAMP:20260422T150311
CREATED:20260202T184752Z
LAST-MODIFIED:20260202T184752Z
UID:3567-1781222400-1781481599@inlandbrewersunite.com
SUMMARY:Inland Northwest Homebrewers Festival 2026
DESCRIPTION:Homebrewers of the Inland Northwest—mark your calendars and fire up your kettles! We’re thrilled to announce the return of the Inland Northwest Homebrewers Festival\, a weekend celebration of community\, craft\, and creativity\, hosted by Inland Brewers Unite (IBU) at beautiful Farragut State Park in northern Idaho. \nGo to the festival website for all the details!
URL:https://inlandbrewersunite.com/event/inland-northwest-homebrewers-festival-2026/
LOCATION:Farragut State Park\, ID\, 13550 E. Hwy 54\, Athol\, Idaho\, 83801
CATEGORIES:Competition,Festival,Member Share
ATTACH;FMTTYPE=image/png:https://inlandbrewersunite.com/wp-content/uploads/2025/07/inwhf-logo1-512.png
END:VEVENT
BEGIN:VEVENT
DTSTART;TZID=America/Los_Angeles:20261107T110000
DTEND;TZID=America/Los_Angeles:20261107T170000
DTSTAMP:20260422T150311
CREATED:20260109T215421Z
LAST-MODIFIED:20260109T215421Z
UID:3557-1794049200-1794070800@inlandbrewersunite.com
SUMMARY:Learn to Homebrew Day 2025 - Club Brew
DESCRIPTION:Save the date. Event details to be announced.
URL:https://inlandbrewersunite.com/event/learn-to-homebrew-day-2025-club-brew/
LOCATION:Spokane Brewing Supply\, 1422 W 3rd Ave\, Spokane\, WA\, 99201\, United States
CATEGORIES:Club Brew,Club Meeting,Member Share
ATTACH;FMTTYPE=image/jpeg:https://inlandbrewersunite.com/wp-content/uploads/2025/02/lthbd_2025_generic_logo-e1739467047679.jpg
END:VEVENT
END:VCALENDAR